BEGIN:VCALENDAR

VERSION:2.0

PRODID:-//wp-events-plugin.com//7.2.3.1//EN

TZID:Asia/Jerusalem

X-WR-TIMEZONE:Asia/Jerusalem
BEGIN:VEVENT

UID:92@edu.technion.ac.il

DTSTART;TZID=Asia/Jerusalem:20250722T143000

DTEND;TZID=Asia/Jerusalem:20250722T153000

DTSTAMP:20250716T055539Z

URL:https://edu.technion.ac.il/events/9269/

SUMMARY:סמינר סיום דר': גל שטרן. מנחה: פרופ"ח ד
 ינה ציבולסקי
DESCRIPTION:Lecturer:\n Location:\n Zoom: \n אוצרים את העתיד: 
 אוצרות דיגיטלית לקידום למידה מותאמת איש
 ית בהוראת המדעים\nגל שטרן\nמנחה: פרופ"ח די
 נה ציבולסקי\nhttps://technion.zoom.us/j/92882990345\nתקציר:
 \nבעידן של עומס מידע וכלים דיגיטליים מתקד
 מים\, עולה הצורך לגבש דרכי הוראה חדשניות 
 המקדמות למידה מותאמת אישית. המחקר התמקד 
 ובן את השפעת האוצרות הדיגיטלית (Digital Curation
  – DC) כלמידה פעילה על קידום למידה מותאמת 
 אישית (Personalized Learning – PL) בקרב תלמידי מדעים
  בחטיבת הביניים. אוצרות דיגיטלית כוללת א
 יסוף\, ארגון\, ניתוח ושיתוף של תכנים דיגיט
 ליים תוך הוספת תובנות אישיות\, והיא נחשבת
  למיומנות חיונית בעידן של הצפת מידע. המחק
 ר נערך בגישה איכותנית עם 28 תלמידים מכלל ש
 כבות חטיבת הביניים\, תוך שילוב פלטפורמות 
 דיגיטליות פתוחות וראיונות\, תצפיות וניתו
 ח תוצרים. הממצאים מצביעים על כך ש-DC תורמת 
 לניהול תהליך הלמידה באמצעות חשיבה ביקור
 תית\, בחירה במקורות אמינים\, תכנון אישי וא
 סטרטגיות למידה מגוונות – עצמאיות ושיתופ
 יות. בנוסף\, התלמידים דיווחו על חוויית למ
 ידה משמעותית יותר\, עניין מוגבר\, הבנה מעמ
 יקה של תכנים מדעיים ותחושת מסוגלות גבוהה
 . המסקנה המרכזית היא כי אוצרות דיגיטלית מ
 הווה אסטרטגיה פדגוגית יעילה ללמידה מותא
 מת אישית\, שמקדמת עצמאות\, מעורבות ומוטיב
 ציה בקרב לומדים.\n \nעל הסטודנטית:\nגל שטרן
  היא דוקטורנטית בפקולטה לחינוך למדע ולטכ
 נולוגיה בטכניון\, בקבוצת המחקר של פרופ’ 
 חבר דינה ציבולסקי\, המתמקדת בהוראת הביול
 וגיה. לגל תואר ראשון בכלכלה וניהול מאוני
 ברסיטת בר-אילן ותואר שני מאוניברסיטת תל 
 אביב בתחום טכנולוגיות למידה\, במסגרת החו
 ג להוראת המדעים והמתמטיקה. עבודת התזה של
 ה עסקה בפיתוח מפת דרכים לשילוב יישומונים
  מתמטיים ברצף ההוראה. לצד מחקרה האקדמי\, ג
 ל משמשת כמנהלת תחום הטמעת כלים טכנולוגיי
 ם ובינה מלאכותית בפירמת KPMG ישראל.\n&nbsp\;

END:VEVENT

BEGIN:VTIMEZONE

TZID:Asia/Jerusalem

X-LIC-LOCATION:Asia/Jerusalem

BEGIN:DAYLIGHT

DTSTART:20250328T030000

TZOFFSETFROM:+0200

TZOFFSETTO:+0300

TZNAME:IDT

END:DAYLIGHT

END:VTIMEZONE
END:VCALENDAR